BEGIN:VCALENDAR
VERSION:2.0
PRODID:-//Budhigyan//Live Classes//EN
CALSCALE:GREGORIAN
BEGIN:VEVENT
UID:budhigyan-live-90001@budhigyan
DTSTAMP:20260420T082642Z
DTSTART:20260421T091640Z
DTEND:20260421T101640Z
SUMMARY:Demo Live Class: Force and Motion
DESCRIPTION:Free live class for school students. https://meet.google.com/demo-school-class
URL:https://meet.google.com/demo-school-class
END:VEVENT
BEGIN:VEVENT
UID:budhigyan-live-90002@budhigyan
DTSTAMP:20260420T082642Z
DTSTART:20260422T091640Z
DTEND:20260422T101640Z
SUMMARY:Demo Premium Live Class: JEE Kinematics
DESCRIPTION:Premium live class for JEE students. https://meet.google.com/demo-jee-class
URL:https://meet.google.com/demo-jee-class
END:VEVENT
END:VCALENDAR
